BEGIN:VCALENDAR
VERSION:2.0
PRODID:-//ChamberMaster//Event Calendar 2.0//EN
METHOD:PUBLISH
X-PUBLISHED-TTL:P1H
REFRESH-INTERVAL:P1H
CALSCALE:GREGORIAN
BEGIN:VTIMEZONE
TZID:America/Denver
BEGIN:DAYLIGHT
RRULE:FREQ=YEARLY;BYMONTH=3;BYDAY=2SU
DTSTART:20070101T000000
TZOFFSETFROM:-0700
TZOFFSETTO:-0600
TZNAME:Mountain Daylight Time
END:DAYLIGHT
BEGIN:STANDARD
RRULE:FREQ=YEARLY;BYMONTH=11;BYDAY=1SU
DTSTART:20070101T000000
TZOFFSETFROM:-0600
TZOFFSETTO:-0700
TZNAME:Mountain Standard Time
END:STANDARD
END:VTIMEZONE
BEGIN:VEVENT
DTSTART;TZID=America/Denver:20250730T160000
DTEND;TZID=America/Denver:20250730T180000
X-MICROSOFT-CDO-ALLDAYEVENT:FALSE
SUMMARY:Fort Lupton Chamber 90th Anniversary Celebration
DESCRIPTION:🎉 You're Invited to a Special Celebration! 🎉\nThe Fort Lupton Chamber of Commerce is turning 90   and we want to celebrate with YOU! 🥳📅 July 30\n🕓 4 PM   6 PM\n📍 330 Park Ave\, Ste 3Come enjoy:\n✔️ Light refreshments\n✔️ Business networking\n✔️ Door prizes✨ Free & open to the public   help us honor 90 years of supporting local business and community!
X-ALT-DESC;FMTTYPE=text/html:<!DOCTYPE html><html><head><title></title></head><body aria-disabled="false"><p data-end="245" data-start="93">🎉 <strong data-end="140" data-start="96" fr-original-style="" style="font-weight: 700\;">You&#39\;re Invited to a Special Celebration!</strong> 🎉<br data-start="143" data-end="146">The <strong data-end="185" data-start="150" fr-original-style="" style="font-weight: 700\;">Fort Lupton Chamber of Commerce</strong> is turning <strong data-end="203" data-start="197" fr-original-style="" style="font-weight: 700\;">90</strong> &mdash\; and we want to celebrate with YOU! 🥳</p><p data-end="311" data-start="247">📅 <strong data-end="261" data-start="250" fr-original-style="" style="font-weight: 700\;">July 30</strong><br data-start="261" data-end="264">🕓 <strong data-end="282" data-start="267" fr-original-style="" style="font-weight: 700\;">4 PM &ndash\; 6 PM</strong><br data-start="282" data-end="285">📍 <strong data-end="311" data-start="288" fr-original-style="" style="font-weight: 700\;">330 Park Ave\, Ste 3</strong></p><p data-end="390" data-start="313">Come enjoy:<br>✔️ Light refreshments<br data-start="346" data-end="349">✔️ Business networking<br data-start="371" data-end="374">✔️ Door prizes</p><p data-end="492" data-start="392">✨ <strong data-end="423" data-start="394" fr-original-style="" style="font-weight: 700\;">Free &amp\; open to the public</strong> &mdash\; help us honor 90 years of supporting local business and community!</p></body></html>
LOCATION:330 Park Ave Suite 3 Fort Lupton 80621
UID:e.2659.1232099
SEQUENCE:3
DTSTAMP:20260421T113410Z
URL:https://fortluptonchamberofcommerce.growthzoneapp.com/communityevents/Details/fort-lupton-chamber-90th-anniversary-celebration-1439339?sourceTypeId=Hub
END:VEVENT
END:VCALENDAR
